BEGIN:VCALENDAR
VERSION:2.0
PRODID:-//hcwsa.org - ECPv6.15.20//NONSGML v1.0//EN
CALSCALE:GREGORIAN
METHOD:PUBLISH
X-ORIGINAL-URL:https://hcwsa.org
X-WR-CALDESC:Events for hcwsa.org
REFRESH-INTERVAL;VALUE=DURATION:PT1H
X-Robots-Tag:noindex
X-PUBLISHED-TTL:PT1H
BEGIN:VTIMEZONE
TZID:UTC
BEGIN:STANDARD
TZOFFSETFROM:+0000
TZOFFSETTO:+0000
TZNAME:UTC
DTSTART:20250101T000000
END:STANDARD
END:VTIMEZONE
BEGIN:VEVENT
DTSTART;TZID=UTC:20260316T120000
DTEND;TZID=UTC:20260316T130000
DTSTAMP:20260424T221427
CREATED:20260305T214258Z
LAST-MODIFIED:20260307T200706Z
UID:10000018-1773662400-1773666000@hcwsa.org
SUMMARY:The "Smart Salting" Strategy
DESCRIPTION:Winter Maintenance Contracts that Reduce Costs and Protect Liability\n \nJoin us to learn more about putting performance-based practices into winter maintenance contracts. Traditional ‘per-ton’ or ‘per-application’ salt contracts can inadvertently encourage over-salting\, leading to higher costs\, damaged infrastructure\, and environmental harm. This webinar provides property managers\, HOA and Condo Association board members\, etc. with a clear roadmap for transitioning to performance-based contracting—an approach that prioritizes measurable safety outcomes over the sheer volume of material used. You’ll hear from Jason Swope\, MD DC WV Coordinator of the Chesapeake Bay Landscape Professional Program and Chesapeake Conservation Landscaping Council and a leader in the world of environmentally-minded smart salting\, and from Benjamin Rhoades\, Watershed Manager and Acting Environmental Director of the Reston Association\, who has been working to put these lessons into practice in Reston\, VA. \nRegister for Webinar at this link
URL:https://hcwsa.org/event/the-smart-salting-strategy/
CATEGORIES:Free Virtual Meeting
END:VEVENT
END:VCALENDAR