BEGIN:VCALENDAR
VERSION:2.0
PRODID:-//hcwsa.org - ECPv6.15.20//NONSGML v1.0//EN
CALSCALE:GREGORIAN
METHOD:PUBLISH
X-ORIGINAL-URL:https://hcwsa.org
X-WR-CALDESC:Events for hcwsa.org
REFRESH-INTERVAL;VALUE=DURATION:PT1H
X-Robots-Tag:noindex
X-PUBLISHED-TTL:PT1H
BEGIN:VTIMEZONE
TZID:UTC
BEGIN:STANDARD
TZOFFSETFROM:+0000
TZOFFSETTO:+0000
TZNAME:UTC
DTSTART:20250101T000000
END:STANDARD
END:VTIMEZONE
BEGIN:VTIMEZONE
TZID:Asia/Karachi
BEGIN:STANDARD
TZOFFSETFROM:+0500
TZOFFSETTO:+0500
TZNAME:PKT
DTSTART:20250101T000000
END:STANDARD
END:VTIMEZONE
BEGIN:VEVENT
DTSTART;TZID=UTC:20260317T180000
DTEND;TZID=UTC:20260317T193000
DTSTAMP:20260424T194833
CREATED:20260210T190846Z
LAST-MODIFIED:20260226T031245Z
UID:10000001-1773770400-1773775800@hcwsa.org
SUMMARY:WSA Members In-Person Meeting and Presentation
DESCRIPTION:Attend an in-person meeting and presentation for Watershed Stewards and the WSA Advisory Committee.\nAscend One Building – (Check-In Required) 8930 Stanford Blvd\, Columbia\, MD\n\n6:00 – 6:30: Food and greetings\n6:30 – 7:30: Paul’s Presentation\n\nFood:  Sandwiches\, chips\, and desert will be provided – so please RSVP. \nOur speaker: Paul Kazyak –\nToday\, Paul is now a proud grandfather but out of high school he joined the Navy. His post-navy career has taken him from the Adirondacks to Maryland. He has been an ecology teacher at graduate level and an important part of the Maryland Department of Natural Resources until he retired in 2016. Paul has been involved in (as he says) a fair amount of “environmental stuff”. Hopefully\, he will expand on that for us. \nPaul has also authored and contributed to several scientific studies and papers about Maryland Biological Stream Surveys (MBSS)\, the state of the streams and biological stream survey results. \nHis talk will look at biodiversity hotspots in the county\, a quick overview of what fishes we have\, how many types of benthic macroinvertebrates there are and how rare they are\, a bit about herpetofauna\, and how to use the Maryland streams map to find information. He will also dive into what human activities affect biodiversity\, with a focus on impervious surface\, road salt\, legacy effects\, migration barriers\, loss of forest.
URL:https://hcwsa.org/event/wsa-members-in-person-meeting-and-presentation/
LOCATION:Ascend One\, 8930 Stanford Blvd\, Columbia\, MD\, United States
CATEGORIES:Just WSA Please
ORGANIZER;CN="Mike Calvert":MAILTO:jnjsdad@gmail.com
END:VEVENT
BEGIN:VEVENT
DTSTART;TZID=UTC:20260319T120000
DTEND;TZID=UTC:20260319T130000
DTSTAMP:20260424T194833
CREATED:20260302T210832Z
LAST-MODIFIED:20260304T184936Z
UID:10000014-1773921600-1773925200@hcwsa.org
SUMMARY:Stormwater Impacts of Solar Installations
DESCRIPTION:Highlight 2 research projects that focus on potential stormwater impacts of large-scale solar installations in Virginia and central Pennsylvania.\nRegister for this Webinar \n  \nDr. Ryan Stewart presents: \nUtility‑scale solar facilities are being constructed throughout Virginia\, yet significant uncertainty remains about the volume and timing of stormwater runoff they produce. It is also unclear whether key design parameters for stormwater detention features are being applied appropriately. With support from the Virginia Department of Environmental Quality (VDEQ)\, we launched a six‑year study in 2023 to measure and evaluate stormwater generation from utility‑scale solar installations across the state. This presentation shares preliminary findings from the first 1–2 years of monitoring\, focusing on three representative solar sites in Virginia. \nDr. Lauren McPhillips presents: \nWith “solar farms” there is potential for impacts on natural hydrologic processes\, and a need to understand implications for design of appropriate management practices. We conducted field research on solar farms in central Pennsylvania that represent the complex terrain in our region (e.g.\, high slopes). Soil moisture data indicates redistribution of water relative to panels\, with elevated soil moisture at the dripline\, and drier soil under the panel. Soil moisture data indicate periods of saturation and runoff generation near panel driplines\, but very limited saturation in the interspace between panel rows\, indicating infiltration of runoff. Data from an infiltration basin and trench document the ability to adequately retain and infiltrate runoff. This hydrologic data has been used to calibrate models of solar farm hydrology\, which help understand runoff changes from pre- to post-solar farm-development. This research collectively indicates that well-vegetated open space between panel rows plays a critical role in managing runoff. In some cases\, structural stormwater management is necessary on solar farms\, in order to prevent adverse impacts on runoff. Continued development of best practices will ensure that solar farms are developed with maximum benefit.
URL:https://hcwsa.org/event/assessing-and-managing-stormwater-impacts-of-solar-installations-in-virginia-and-central-pennsylvania/
CATEGORIES:Free Virtual Meeting
END:VEVENT
BEGIN:VEVENT
DTSTART;TZID=UTC:20260321T100000
DTEND;TZID=UTC:20260321T130000
DTSTAMP:20260424T194833
CREATED:20260211T203859Z
LAST-MODIFIED:20260222T194127Z
UID:10000005-1774087200-1774098000@hcwsa.org
SUMMARY:Hammond High School Green Fest
DESCRIPTION:The main entrance to Hammond High School\nWould you like to work with the Hammond High School Green Team?\nJoan Niland and Mollie Wolf of the Hammond High School Green Team are hosting an early “Green Fest”.  Mollie is an Earth Science\, Biology & Marine Science Teacher at Hammond High. WSA has been invited to join the event to inspire students and community members to make more informed and sustainable choices. \nDetails:\nSaturday\, March 21\, 2026\n10:00 a.m. – 1 p.m. (participants are encouraged to set up at 9:30 a.m.)\nHammond High School\, 8800 Guilford Road\, Columbia\, MD 21046 \nIf you would like to participate please sign up here.
URL:https://hcwsa.org/event/hammond-high-school-green-fest/
CATEGORIES:Volunteers Needed
ORGANIZER;CN="Terry Matthews":MAILTO:trmatt@umd.edu
END:VEVENT
BEGIN:VEVENT
DTSTART;TZID=UTC:20260326T120000
DTEND;TZID=UTC:20260326T130000
DTSTAMP:20260424T194833
CREATED:20260302T212216Z
LAST-MODIFIED:20260302T212231Z
UID:10000015-1774526400-1774530000@hcwsa.org
SUMMARY:Where Clean Water Meets Community
DESCRIPTION:Showcasing Innovation at the Wetlands at Long’s Park\nRegister at this link \nJoin Angela Brackbill for a look beneath the surface of The Wetlands at Long’s Park – the Grand Prize-winning project of the 2025 Best Urban BMP in the Bay (BUBBAs) awards. This webinar will explore how the City of Lancaster transformed Long’s Park’s aging pond and stormwater challenges into an innovative natural treatment system that captures and treats over 16 million gallons of stormwater and recirculated pond water annually\, significantly reducing nutrient and sediment pollution while enhancing habitat and public amenities. Webinar attendees will learn about the innovative design components that made this project stand apart\, from floating wetland islands and an iron-enhanced media filter to constructed marshes and interpretive walkways and hear firsthand how thoughtful public engagement and education were woven into a project that serves both community and watershed health.
URL:https://hcwsa.org/event/where-clean-water-meets-community/
CATEGORIES:Free Virtual Meeting
END:VEVENT
BEGIN:VEVENT
DTSTART;TZID=UTC:20260326T183000
DTEND;TZID=UTC:20260326T193000
DTSTAMP:20260424T194833
CREATED:20260210T200221Z
LAST-MODIFIED:20260213T194029Z
UID:10000003-1774549800-1774553400@hcwsa.org
SUMMARY:WSA Member Meeting for 2026 Capstone Project
DESCRIPTION:Terry is inviting you to a scheduled Zoom meeting. \nTopic: ZB-210-8042 Master Watershed Steward Cert 2025 Project Presentations\nTime: Mar 26\, 2026 06:30 PM Eastern Time (US and Canada)\nJoin Zoom Meeting\nhttps://howardcc.zoom.us/j/95473242048?pwd=BjmOXlZ96XaKbHMobrdkcBaTKsdpj2.1 \nMeeting ID: 954 7324 2048\nPasscode: HoCoWSA
URL:https://hcwsa.org/event/wsa-members-meeting-for-2026-capstone-project/
CATEGORIES:Just WSA Please
ORGANIZER;CN="Terry Matthews":MAILTO:trmatt@umd.edu
END:VEVENT
BEGIN:VEVENT
DTSTART;TZID=UTC:20260327T010000
DTEND;TZID=UTC:20260327T113000
DTSTAMP:20260424T194833
CREATED:20260302T202027Z
LAST-MODIFIED:20260302T202453Z
UID:10000012-1774573200-1774611000@hcwsa.org
SUMMARY:Last Day to Register for "Advanced Stream Repair Series"
DESCRIPTION:Gain a practical\, start-to-finish understanding of modern stream restoration in this comprehensive webinar series. Participants will explore the causes of stream degradation\, learn how to assess whether a stream is a good candidate for restoration\, and examine common challenges and proven solutions. Topics include legacy sediment\, dam removal\, floodplain reconnection to improve water quality and aquatic habitat\, and the role of large woody materials in stream valley ecosystems. The series also addresses planning\, permitting\, maintenance\, and effective streambank stabilization in challenging locations such as road crossings\, farm lanes\, and pastures. The program concludes with a live panel of restoration professionals from state agencies and conservation organizations who will share field-based insights and answer audience questions. \nMarch 27 and April 3\, 10\, 17 and 24\, 2026\n(12:00 PM-1:00 PM ET) \nSpace is limited . \nFind out more and how to register at this link \nRegistration is required to receive the link to access the webinar.  A link to the recorded webinar will be emailed to registrants within ten business days after the live event. The recording will be accessible for six months from the event date.
URL:https://hcwsa.org/event/last-day-to-register-for-advanced-stream-repair-series/
CATEGORIES:Paid Webinar
END:VEVENT
BEGIN:VEVENT
DTSTART;TZID=UTC:20260329T100000
DTEND;TZID=UTC:20260329T113000
DTSTAMP:20260424T194833
CREATED:20260308T000330Z
LAST-MODIFIED:20260308T000330Z
UID:10000019-1774778400-1774783800@hcwsa.org
SUMMARY:Vernal Pool Guided Hike - Macgills Common
DESCRIPTION:Join Patapsco Heritage Greenway to learn about the importance of Vernal Pools and find one along the Patuxent Branch Trail! \nLearn More and Reserve a Spot at this link.
URL:https://hcwsa.org/event/vernal-pool-guided-hike-macgills-common/
LOCATION:Macgills Common Basketball Court\, 10025 Shaker Dr\, Columbia\, MD\, 21046\, United States
END:VEVENT
BEGIN:VEVENT
DTSTART;TZID=UTC:20260330T123000
DTEND;TZID=UTC:20260330T143000
DTSTAMP:20260424T194833
CREATED:20260316T185500Z
LAST-MODIFIED:20260316T192316Z
UID:10000020-1774873800-1774881000@hcwsa.org
SUMMARY:Stream Waders - Conservancy
DESCRIPTION:HC Conservancy Stream
URL:https://hcwsa.org/event/stream-waders-conservancy/
LOCATION:HC Conservancy\, 10520 Old Frederick Road\, Woodstock\, MD\, 21163\, United States
ORGANIZER;CN="Natalie Yee":MAILTO:natalie.yee@columbiaassociation.org
END:VEVENT
BEGIN:VEVENT
DTSTART;TZID=UTC:20260401T123000
DTEND;TZID=UTC:20260401T143000
DTSTAMP:20260424T194833
CREATED:20260316T185707Z
LAST-MODIFIED:20260316T192823Z
UID:10000021-1775046600-1775053800@hcwsa.org
SUMMARY:Stream Waders - King's Contrivance
DESCRIPTION:Kings Contrivance Stream
URL:https://hcwsa.org/event/stream-waders-kings-contrivance/
LOCATION:King’s Contrivance\, 7614 Sweet Hours Way\, Columbia\, United States
ORGANIZER;CN="Natalie Yee":MAILTO:natalie.yee@columbiaassociation.org
END:VEVENT
BEGIN:VEVENT
DTSTART;TZID=UTC:20260406T103000
DTEND;TZID=UTC:20260406T120000
DTSTAMP:20260424T194833
CREATED:20260304T204848Z
LAST-MODIFIED:20260324T192927Z
UID:10000017-1775471400-1775476800@hcwsa.org
SUMMARY:Prepare Rain Barrels for Greenfest
DESCRIPTION:Howard County gives away rain barrels at GreenFest (held in April) every year! Each barrel has two spigots to help with drainage. We need a few volunteers to help install the spigots on 40 rain barrels. This should take about an hour\, no longer than 1.5 hours. \nSign up to help at this link
URL:https://hcwsa.org/event/prepare-rain-barrels-for-greenfest/
LOCATION:Alpha Ridge Landfill Gazebo\, 2800 Alpha Ridge Rd\, Marriottsville\, MD\, 21104\, United States
CATEGORIES:Volunteers Needed
ORGANIZER;CN="Radhika Wijetunge":MAILTO:radhika@navibo.com
END:VEVENT
BEGIN:VEVENT
DTSTART;TZID=UTC:20260406T123000
DTEND;TZID=UTC:20260406T143000
DTSTAMP:20260424T194833
CREATED:20260316T185951Z
LAST-MODIFIED:20260316T193118Z
UID:10000022-1775478600-1775485800@hcwsa.org
SUMMARY:Stream Waders – Hickory Ridge
DESCRIPTION:Our First Time Sampling This Stream
URL:https://hcwsa.org/event/stream-waders-hickory-ridge/
LOCATION:Hickory Ridge\, 11609 Bridgehead Court\, Columbia\, MD\, United States
ORGANIZER;CN="Natalie Yee":MAILTO:natalie.yee@columbiaassociation.org
END:VEVENT
BEGIN:VEVENT
DTSTART;TZID=UTC:20260409T100000
DTEND;TZID=UTC:20260409T113000
DTSTAMP:20260424T194833
CREATED:20260316T190148Z
LAST-MODIFIED:20260316T194138Z
UID:10000023-1775728800-1775734200@hcwsa.org
SUMMARY:Stream Waders – Owen Brown
DESCRIPTION:Green Leaf Stream
URL:https://hcwsa.org/event/stream-waders-owen-brown/
LOCATION:Owen Brown\, 6507 Overheart Ln\, Columbia\, MD\, 21045\, United States
ORGANIZER;CN="Natalie Yee":MAILTO:natalie.yee@columbiaassociation.org
END:VEVENT
BEGIN:VEVENT
DTSTART;TZID=UTC:20260409T113000
DTEND;TZID=UTC:20260409T130000
DTSTAMP:20260424T194833
CREATED:20260316T190334Z
LAST-MODIFIED:20260316T190334Z
UID:10000024-1775734200-1775739600@hcwsa.org
SUMMARY:Stream Waders – Oakland Mills
DESCRIPTION:
URL:https://hcwsa.org/event/stream-waders-oakland-mills/
LOCATION:Oakland Mills\, 9573 Longlook Lane\, Columbia\, MD\, United States
ORGANIZER;CN="Natalie Yee":MAILTO:natalie.yee@columbiaassociation.org
END:VEVENT
BEGIN:VEVENT
DTSTART;TZID=UTC:20260411T100000
DTEND;TZID=UTC:20260411T150000
DTSTAMP:20260424T194833
CREATED:20260213T185100Z
LAST-MODIFIED:20260302T200415Z
UID:10000006-1775901600-1775919600@hcwsa.org
SUMMARY:Greenfest 2026
DESCRIPTION:Sign Up to Represent WSA\n \nWSA will provided a display\, information\, and answers to plenty of good questions. There will also be rain barrels to give away to the County residents who have registered with Radhika (at the County) so help will be needed there as well. It’s a good time to spread the good word about the watershed and the WSA. \nYou can sign up for table coverage and help with the rain barrels at this link.
URL:https://hcwsa.org/event/greenfest-2026/
LOCATION:Howard Community College\, 10901 Little Patuxent Parkway\, Columbia\, MD\, 21044\, United States
CATEGORIES:Volunteers Needed
ORGANIZER;CN="Terry Matthews":MAILTO:trmatt@umd.edu
END:VEVENT
BEGIN:VEVENT
DTSTART;TZID=UTC:20260417T100000
DTEND;TZID=UTC:20260417T113000
DTSTAMP:20260424T194833
CREATED:20260316T190520Z
LAST-MODIFIED:20260316T190520Z
UID:10000025-1776420000-1776425400@hcwsa.org
SUMMARY:Stream Waders – Harper's Choice (Hesperus)
DESCRIPTION:
URL:https://hcwsa.org/event/stream-waders-harpers-choice-hesperus/
LOCATION:Harper’s Choice Hesperus\, 5306 Hesperus\, Columbia\, MD\, United States
ORGANIZER;CN="Natalie Yee":MAILTO:natalie.yee@columbiaassociation.org
END:VEVENT
BEGIN:VEVENT
DTSTART;TZID=UTC:20260417T113000
DTEND;TZID=UTC:20260417T130000
DTSTAMP:20260424T194833
CREATED:20260316T190645Z
LAST-MODIFIED:20260316T190645Z
UID:10000026-1776425400-1776430800@hcwsa.org
SUMMARY:Stream Waders – Harper's Choice (Deering Woods)
DESCRIPTION:
URL:https://hcwsa.org/event/stream-waders-harpers-choice-deering-woods/
LOCATION:Harper’s Choice\, Deering Woods\, 10754 Faulkner Ridge Circle\, Columbia\, MD\, United States
ORGANIZER;CN="Natalie Yee":MAILTO:natalie.yee@columbiaassociation.org
END:VEVENT
BEGIN:VEVENT
DTSTART;TZID=UTC:20260418T130000
DTEND;TZID=UTC:20260418T150000
DTSTAMP:20260424T194833
CREATED:20260213T192726Z
LAST-MODIFIED:20260222T204838Z
UID:10000007-1776517200-1776524400@hcwsa.org
SUMMARY:Caring for Our Planet: Earth Day Fair
DESCRIPTION:Central Branch is hosting Caring for Our Planet: Earth Day Fair\, on April 18 from 1–3 PM. Once again\, they are planning a day of fun for all ages with hands on activities\, music\, classes\, and organizations promoting sustainable practices.\n\nThe would be delighted to invite WSA to join them as a tabling partner to share your resources and connect with the community. This interdepartmental and intergenerational event is a wonderful opportunity to engage with families\, teens\, and adults who are eager to learn about sustainability and environmental stewardship.\n\nPlease sign up at this link if you’re interested helping out. Terry or Radhika can provide more information.
URL:https://hcwsa.org/event/caring-for-our-planet-earth-day-fair/
LOCATION:HC Central Branch Public Library\, 10375 Little Patuxent Pkwy\, Columbia\, MD 21044\, MD\, 21044\, United States
CATEGORIES:Volunteers Needed
ORGANIZER;CN="Radhika Wijetunge":MAILTO:radhika@navibo.com
END:VEVENT
BEGIN:VEVENT
DTSTART;TZID=Asia/Karachi:20260421T190000
DTEND;TZID=Asia/Karachi:20260421T210000
DTSTAMP:20260424T194833
CREATED:20260408T163936Z
LAST-MODIFIED:20260408T181342Z
UID:10000029-1776798000-1776805200@hcwsa.org
SUMMARY:Considering Stream Restoration — What Should The Future Hold?
DESCRIPTION:Sponsors:\nMaryland Native Plant Society (mdflora)\, University of Maryland Extension\, Baltimore City Forestry Board \nHybrid Meeting (Zoom or In Person) \nMDflora asks that you register for your preferred option; after registering\, you will get Zoom login information and in person location information. Register at: http://www.mdflora.org/event-6481121  They can accommodate the first 300 people who enter the Zoom meeting at the meeting time.  The program is free and open to the public. \nModerator:  Claire Cambardella\,   Panelists:  Ashley Bowers\, Dr. Solange Filoso\, Dr. Andrew Macdonald\, Rod Simmons\, Rob Schnabel \nThis event will start promptly at 7 PM and go until 9 PM. | No pre-program or announcements beforehand. If you are attending in person\, be sure to arrive a few minutes early to take your seat so we can start on time. \nDESCRIPTION: Stream restoration projects are reshaping waterways across the country — but are they always the right solution and completed using best practices? This expert panel brings together professionals with deep\, diverse experience in stream reconstruction to examine the practice from every angle: the science\, the outcomes\, the economics\, and the community impact. Join for a frank\, evidence-based conversation that asks the hard questions: When does stream restoration work\, and when does it fall short? What alternatives exist? Who bears the cost\, and who benefits?
URL:https://hcwsa.org/event/considering-stream-restoration-what-should-the-future-hold/
LOCATION:Central Maryland Research and Education Center (CMREC)\, 4240 Folly Quarter Road\, Ellicott City\, 21042\, United States
CATEGORIES:Donations,Free Virtual Meeting
END:VEVENT
BEGIN:VEVENT
DTSTART;TZID=UTC:20260425T090000
DTEND;TZID=UTC:20260425T120000
DTSTAMP:20260424T194833
CREATED:20260416T182707Z
LAST-MODIFIED:20260416T182720Z
UID:10000046-1777107600-1777118400@hcwsa.org
SUMMARY:Rain Barrel Demonstration at Stonehouse
DESCRIPTION:WSA will have a table at the Long Reach Election Day event to talk about rain barrels (installation\, maintenance\, why they’re useful) with a demonstration barrel and to answer questions. It would be great to have volunteers to help Barb Schmeckpeper. \nPlease sign up at this link.
URL:https://hcwsa.org/event/rain-barrel-demonstration-at-stonehouse/
CATEGORIES:Volunteers Needed
ORGANIZER;CN="Barbara Schmeckpeper":MAILTO:bjschmeck@gmail.com
END:VEVENT
BEGIN:VEVENT
DTSTART;TZID=UTC:20260502T090000
DTEND;TZID=UTC:20260502T110000
DTSTAMP:20260424T194833
CREATED:20260416T165820Z
LAST-MODIFIED:20260416T165820Z
UID:10000031-1777712400-1777719600@hcwsa.org
SUMMARY:Rain Barrel Give-Away at Alpha Ridge
DESCRIPTION:Help folks get their free rain barrels from Howard County.  Those who have signed up online with the County get their barrels and help with first flush rainfall\, especially helpful with our frequent thunderstorms. \nWe need a volunteer to help us answer questions about installing and maintaining a rain barrel. \n\nSign up to help on May 2nd at this link.\nSign up to help on May 9th at this link.\nSign up to help for May 16th at this link.\nSign up to help for May 30th at this link.\nSign up to help for June 6th at this link.\n\n 
URL:https://hcwsa.org/event/rain-barrel-give-away-at-alpha-ridge/2026-05-02/
LOCATION:Alpha Ridge Landfill Gazebo\, 2800 Alpha Ridge Rd\, Marriottsville\, MD\, 21104\, United States
CATEGORIES:Volunteers Needed
ORGANIZER;CN="Radhika Wijetunge":MAILTO:radhika@navibo.com
END:VEVENT
BEGIN:VEVENT
DTSTART;TZID=Asia/Karachi:20260503T120000
DTEND;TZID=Asia/Karachi:20260503T160000
DTSTAMP:20260424T194833
CREATED:20260302T200238Z
LAST-MODIFIED:20260302T200337Z
UID:10000011-1777809600-1777824000@hcwsa.org
SUMMARY:Native Plant Palooza
DESCRIPTION:Shop the annual\, outdoor native plant sale! Select from a large variety of shrubs\, wildflowers\, ground covers\, trees\, and edible native plants. \nFree guided native plant walks at 12:30pm & 2:30pm \nIn the event that our parking lot fills\, we have secured off-site parking thanks to the Johns Hopkins University Applied Physics lab at 11100 Johns Hopkins Road. To inquire about parking availability at the nature center before your arrival\, please call 410-313-0400. We will be running shuttles to and from the off-site parking. Plant purchases will be moved with the assistance of volunteers to the Nature Center front circle\, where guests may load their car after returning from off-site parking. \n  \n 
URL:https://hcwsa.org/event/native-plant-palooza/
LOCATION:Robinson Nature Center\, 6692 Cedar Ln\, Columbia\, MD\, 21044\, United States
END:VEVENT
BEGIN:VEVENT
DTSTART;TZID=UTC:20260503T123000
DTEND;TZID=UTC:20260503T160000
DTSTAMP:20260424T194833
CREATED:20260213T192011Z
LAST-MODIFIED:20260419T234131Z
UID:10000008-1777811400-1777824000@hcwsa.org
SUMMARY:OMI Green Spring Fling
DESCRIPTION:Oakland Mills Interfaith Green Team Spring Fling\nJoin the Oakland Mills Interfaith Green Team for environmental fun for the whole family! Registrants receive a free native plant on the day of the event. Other activities include a free rain barrel workshop\, native planting and stormwater tours as well as an electric vehicle (EV) “frunkshow.” \n \nThe OMI Green Team will provide: \n\nFree native perennial to all attendees\nFree parking\nFree admittance\n\n 
URL:https://hcwsa.org/event/omi-green-spring-fling/
LOCATION:Oakland Mills Interfaith Center\, 5885 Robert Oliver Place\, Columbia\, MD\, 21045\, United States
END:VEVENT
BEGIN:VEVENT
DTSTART;TZID=UTC:20260509T090000
DTEND;TZID=UTC:20260509T110000
DTSTAMP:20260424T194833
CREATED:20260416T165820Z
LAST-MODIFIED:20260416T165820Z
UID:10000041-1778317200-1778324400@hcwsa.org
SUMMARY:Rain Barrel Give-Away at Alpha Ridge
DESCRIPTION:Help folks get their free rain barrels from Howard County.  Those who have signed up online with the County get their barrels and help with first flush rainfall\, especially helpful with our frequent thunderstorms. \nWe need a volunteer to help us answer questions about installing and maintaining a rain barrel. \n\nSign up to help on May 2nd at this link.\nSign up to help on May 9th at this link.\nSign up to help for May 16th at this link.\nSign up to help for May 30th at this link.\nSign up to help for June 6th at this link.\n\n 
URL:https://hcwsa.org/event/rain-barrel-give-away-at-alpha-ridge/2026-05-09/
LOCATION:Alpha Ridge Landfill Gazebo\, 2800 Alpha Ridge Rd\, Marriottsville\, MD\, 21104\, United States
CATEGORIES:Volunteers Needed
ORGANIZER;CN="Radhika Wijetunge":MAILTO:radhika@navibo.com
END:VEVENT
BEGIN:VEVENT
DTSTART;TZID=UTC:20260516T090000
DTEND;TZID=UTC:20260516T110000
DTSTAMP:20260424T194833
CREATED:20260416T165820Z
LAST-MODIFIED:20260416T165820Z
UID:10000042-1778922000-1778929200@hcwsa.org
SUMMARY:Rain Barrel Give-Away at Alpha Ridge
DESCRIPTION:Help folks get their free rain barrels from Howard County.  Those who have signed up online with the County get their barrels and help with first flush rainfall\, especially helpful with our frequent thunderstorms. \nWe need a volunteer to help us answer questions about installing and maintaining a rain barrel. \n\nSign up to help on May 2nd at this link.\nSign up to help on May 9th at this link.\nSign up to help for May 16th at this link.\nSign up to help for May 30th at this link.\nSign up to help for June 6th at this link.\n\n 
URL:https://hcwsa.org/event/rain-barrel-give-away-at-alpha-ridge/2026-05-16/
LOCATION:Alpha Ridge Landfill Gazebo\, 2800 Alpha Ridge Rd\, Marriottsville\, MD\, 21104\, United States
CATEGORIES:Volunteers Needed
ORGANIZER;CN="Radhika Wijetunge":MAILTO:radhika@navibo.com
END:VEVENT
BEGIN:VEVENT
DTSTART;TZID=UTC:20260523T090000
DTEND;TZID=UTC:20260523T110000
DTSTAMP:20260424T194833
CREATED:20260416T165820Z
LAST-MODIFIED:20260416T165820Z
UID:10000043-1779526800-1779534000@hcwsa.org
SUMMARY:Rain Barrel Give-Away at Alpha Ridge
DESCRIPTION:Help folks get their free rain barrels from Howard County.  Those who have signed up online with the County get their barrels and help with first flush rainfall\, especially helpful with our frequent thunderstorms. \nWe need a volunteer to help us answer questions about installing and maintaining a rain barrel. \n\nSign up to help on May 2nd at this link.\nSign up to help on May 9th at this link.\nSign up to help for May 16th at this link.\nSign up to help for May 30th at this link.\nSign up to help for June 6th at this link.\n\n 
URL:https://hcwsa.org/event/rain-barrel-give-away-at-alpha-ridge/2026-05-23/
LOCATION:Alpha Ridge Landfill Gazebo\, 2800 Alpha Ridge Rd\, Marriottsville\, MD\, 21104\, United States
CATEGORIES:Volunteers Needed
ORGANIZER;CN="Radhika Wijetunge":MAILTO:radhika@navibo.com
END:VEVENT
BEGIN:VEVENT
DTSTART;TZID=UTC:20260530T090000
DTEND;TZID=UTC:20260530T110000
DTSTAMP:20260424T194833
CREATED:20260416T165820Z
LAST-MODIFIED:20260416T165820Z
UID:10000044-1780131600-1780138800@hcwsa.org
SUMMARY:Rain Barrel Give-Away at Alpha Ridge
DESCRIPTION:Help folks get their free rain barrels from Howard County.  Those who have signed up online with the County get their barrels and help with first flush rainfall\, especially helpful with our frequent thunderstorms. \nWe need a volunteer to help us answer questions about installing and maintaining a rain barrel. \n\nSign up to help on May 2nd at this link.\nSign up to help on May 9th at this link.\nSign up to help for May 16th at this link.\nSign up to help for May 30th at this link.\nSign up to help for June 6th at this link.\n\n 
URL:https://hcwsa.org/event/rain-barrel-give-away-at-alpha-ridge/2026-05-30/
LOCATION:Alpha Ridge Landfill Gazebo\, 2800 Alpha Ridge Rd\, Marriottsville\, MD\, 21104\, United States
CATEGORIES:Volunteers Needed
ORGANIZER;CN="Radhika Wijetunge":MAILTO:radhika@navibo.com
END:VEVENT
BEGIN:VEVENT
DTSTART;TZID=UTC:20260606T090000
DTEND;TZID=UTC:20260606T110000
DTSTAMP:20260424T194833
CREATED:20260416T165820Z
LAST-MODIFIED:20260416T165820Z
UID:10000045-1780736400-1780743600@hcwsa.org
SUMMARY:Rain Barrel Give-Away at Alpha Ridge
DESCRIPTION:Help folks get their free rain barrels from Howard County.  Those who have signed up online with the County get their barrels and help with first flush rainfall\, especially helpful with our frequent thunderstorms. \nWe need a volunteer to help us answer questions about installing and maintaining a rain barrel. \n\nSign up to help on May 2nd at this link.\nSign up to help on May 9th at this link.\nSign up to help for May 16th at this link.\nSign up to help for May 30th at this link.\nSign up to help for June 6th at this link.\n\n 
URL:https://hcwsa.org/event/rain-barrel-give-away-at-alpha-ridge/2026-06-06/
LOCATION:Alpha Ridge Landfill Gazebo\, 2800 Alpha Ridge Rd\, Marriottsville\, MD\, 21104\, United States
CATEGORIES:Volunteers Needed
ORGANIZER;CN="Radhika Wijetunge":MAILTO:radhika@navibo.com
END:VEVENT
END:VCALENDAR