BEGIN:VCALENDAR
VERSION:2.0
PRODID:-//hcwsa.org - ECPv6.15.20//NONSGML v1.0//EN
CALSCALE:GREGORIAN
METHOD:PUBLISH
X-WR-CALNAME:hcwsa.org
X-ORIGINAL-URL:https://hcwsa.org
X-WR-CALDESC:Events for hcwsa.org
REFRESH-INTERVAL;VALUE=DURATION:PT1H
X-Robots-Tag:noindex
X-PUBLISHED-TTL:PT1H
BEGIN:VTIMEZONE
TZID:UTC
BEGIN:STANDARD
TZOFFSETFROM:+0000
TZOFFSETTO:+0000
TZNAME:UTC
DTSTART:20250101T000000
END:STANDARD
END:VTIMEZONE
BEGIN:VEVENT
DTSTART;TZID=UTC:20260417T100000
DTEND;TZID=UTC:20260417T113000
DTSTAMP:20260424T165959
CREATED:20260316T190520Z
LAST-MODIFIED:20260316T190520Z
UID:10000025-1776420000-1776425400@hcwsa.org
SUMMARY:Stream Waders – Harper's Choice (Hesperus)
DESCRIPTION:
URL:https://hcwsa.org/event/stream-waders-harpers-choice-hesperus/
LOCATION:Harper’s Choice Hesperus\, 5306 Hesperus\, Columbia\, MD\, United States
ORGANIZER;CN="Natalie Yee":MAILTO:natalie.yee@columbiaassociation.org
END:VEVENT
BEGIN:VEVENT
DTSTART;TZID=UTC:20260417T113000
DTEND;TZID=UTC:20260417T130000
DTSTAMP:20260424T165959
CREATED:20260316T190645Z
LAST-MODIFIED:20260316T190645Z
UID:10000026-1776425400-1776430800@hcwsa.org
SUMMARY:Stream Waders – Harper's Choice (Deering Woods)
DESCRIPTION:
URL:https://hcwsa.org/event/stream-waders-harpers-choice-deering-woods/
LOCATION:Harper’s Choice\, Deering Woods\, 10754 Faulkner Ridge Circle\, Columbia\, MD\, United States
ORGANIZER;CN="Natalie Yee":MAILTO:natalie.yee@columbiaassociation.org
END:VEVENT
END:VCALENDAR