BEGIN:VCALENDAR
VERSION:2.0
PRODID:-//hcwsa.org - ECPv6.15.20//NONSGML v1.0//EN
CALSCALE:GREGORIAN
METHOD:PUBLISH
X-WR-CALNAME:hcwsa.org
X-ORIGINAL-URL:https://hcwsa.org
X-WR-CALDESC:Events for hcwsa.org
REFRESH-INTERVAL;VALUE=DURATION:PT1H
X-Robots-Tag:noindex
X-PUBLISHED-TTL:PT1H
BEGIN:VTIMEZONE
TZID:UTC
BEGIN:STANDARD
TZOFFSETFROM:+0000
TZOFFSETTO:+0000
TZNAME:UTC
DTSTART:20250101T000000
END:STANDARD
END:VTIMEZONE
BEGIN:VEVENT
DTSTART;TZID=UTC:20260317T180000
DTEND;TZID=UTC:20260317T193000
DTSTAMP:20260424T182442
CREATED:20260210T190846Z
LAST-MODIFIED:20260226T031245Z
UID:10000001-1773770400-1773775800@hcwsa.org
SUMMARY:WSA Members In-Person Meeting and Presentation
DESCRIPTION:Attend an in-person meeting and presentation for Watershed Stewards and the WSA Advisory Committee.\nAscend One Building – (Check-In Required) 8930 Stanford Blvd\, Columbia\, MD\n\n6:00 – 6:30: Food and greetings\n6:30 – 7:30: Paul’s Presentation\n\nFood:  Sandwiches\, chips\, and desert will be provided – so please RSVP. \nOur speaker: Paul Kazyak –\nToday\, Paul is now a proud grandfather but out of high school he joined the Navy. His post-navy career has taken him from the Adirondacks to Maryland. He has been an ecology teacher at graduate level and an important part of the Maryland Department of Natural Resources until he retired in 2016. Paul has been involved in (as he says) a fair amount of “environmental stuff”. Hopefully\, he will expand on that for us. \nPaul has also authored and contributed to several scientific studies and papers about Maryland Biological Stream Surveys (MBSS)\, the state of the streams and biological stream survey results. \nHis talk will look at biodiversity hotspots in the county\, a quick overview of what fishes we have\, how many types of benthic macroinvertebrates there are and how rare they are\, a bit about herpetofauna\, and how to use the Maryland streams map to find information. He will also dive into what human activities affect biodiversity\, with a focus on impervious surface\, road salt\, legacy effects\, migration barriers\, loss of forest.
URL:https://hcwsa.org/event/wsa-members-in-person-meeting-and-presentation/
LOCATION:Ascend One\, 8930 Stanford Blvd\, Columbia\, MD\, United States
CATEGORIES:Just WSA Please
ORGANIZER;CN="Mike Calvert":MAILTO:jnjsdad@gmail.com
END:VEVENT
END:VCALENDAR